BEGIN:VCALENDAR
VERSION:2.0
PRODID:-//Columbian Home - ECPv6.15.17.1//NONSGML v1.0//EN
CALSCALE:GREGORIAN
METHOD:PUBLISH
X-ORIGINAL-URL:https://thecolumbianhome.com
X-WR-CALDESC:Events for Columbian Home
REFRESH-INTERVAL;VALUE=DURATION:PT1H
X-Robots-Tag:noindex
X-PUBLISHED-TTL:PT1H
BEGIN:VTIMEZONE
TZID:UTC
BEGIN:STANDARD
TZOFFSETFROM:+0000
TZOFFSETTO:+0000
TZNAME:UTC
DTSTART:20240101T000000
END:STANDARD
END:VTIMEZONE
BEGIN:VEVENT
DTSTART;TZID=UTC:20250131T173000
DTEND;TZID=UTC:20250131T193000
DTSTAMP:20260422T104750
CREATED:20241204T181649Z
LAST-MODIFIED:20241206T173504Z
UID:4265-1738344600-1738351800@thecolumbianhome.com
SUMMARY:Chris George on the porch
DESCRIPTION:
URL:https://thecolumbianhome.com/event/chris-george-on-the-porch-2/
END:VEVENT
END:VCALENDAR