BEGIN:VCALENDAR
VERSION:2.0
PRODID:-//Columbian Home - ECPv6.15.17.1//NONSGML v1.0//EN
CALSCALE:GREGORIAN
METHOD:PUBLISH
X-ORIGINAL-URL:https://thecolumbianhome.com
X-WR-CALDESC:Events for Columbian Home
REFRESH-INTERVAL;VALUE=DURATION:PT1H
X-Robots-Tag:noindex
X-PUBLISHED-TTL:PT1H
BEGIN:VTIMEZONE
TZID:UTC
BEGIN:STANDARD
TZOFFSETFROM:+0000
TZOFFSETTO:+0000
TZNAME:UTC
DTSTART:20240101T000000
END:STANDARD
END:VTIMEZONE
BEGIN:VEVENT
DTSTART;TZID=UTC:20250215T190000
DTEND;TZID=UTC:20250215T220000
DTSTAMP:20260422T091120
CREATED:20250102T205731Z
LAST-MODIFIED:20250102T205731Z
UID:4293-1739646000-1739656800@thecolumbianhome.com
SUMMARY:Valentine Dinner Dance with Charles Eckhart
DESCRIPTION:
URL:https://thecolumbianhome.com/event/valentine-dinner-dance-with-charles-eckhart/
END:VEVENT
END:VCALENDAR