BEGIN:VCALENDAR
VERSION:2.0
PRODID:-//Columbian Home - ECPv6.15.17.1//NONSGML v1.0//EN
CALSCALE:GREGORIAN
METHOD:PUBLISH
X-ORIGINAL-URL:https://thecolumbianhome.com
X-WR-CALDESC:Events for Columbian Home
REFRESH-INTERVAL;VALUE=DURATION:PT1H
X-Robots-Tag:noindex
X-PUBLISHED-TTL:PT1H
BEGIN:VTIMEZONE
TZID:UTC
BEGIN:STANDARD
TZOFFSETFROM:+0000
TZOFFSETTO:+0000
TZNAME:UTC
DTSTART:20240101T000000
END:STANDARD
END:VTIMEZONE
BEGIN:VEVENT
DTSTART;TZID=UTC:20250307T173000
DTEND;TZID=UTC:20250307T200000
DTSTAMP:20260422T090024
CREATED:20250205T214213Z
LAST-MODIFIED:20250205T214213Z
UID:4328-1741368600-1741377600@thecolumbianhome.com
SUMMARY:ROB BALLANOFF
DESCRIPTION:Porch
URL:https://thecolumbianhome.com/event/rob-ballanoff/
END:VEVENT
END:VCALENDAR