BEGIN:VCALENDAR
VERSION:2.0
PRODID:-//Columbian Home - ECPv6.15.17.1//NONSGML v1.0//EN
CALSCALE:GREGORIAN
METHOD:PUBLISH
X-ORIGINAL-URL:https://thecolumbianhome.com
X-WR-CALDESC:Events for Columbian Home
REFRESH-INTERVAL;VALUE=DURATION:PT1H
X-Robots-Tag:noindex
X-PUBLISHED-TTL:PT1H
BEGIN:VTIMEZONE
TZID:UTC
BEGIN:STANDARD
TZOFFSETFROM:+0000
TZOFFSETTO:+0000
TZNAME:UTC
DTSTART:20240101T000000
END:STANDARD
END:VTIMEZONE
BEGIN:VEVENT
DTSTART;TZID=UTC:20250320T190000
DTEND;TZID=UTC:20250320T220000
DTSTAMP:20260422T073202
CREATED:20250205T214508Z
LAST-MODIFIED:20250205T215557Z
UID:4338-1742497200-1742508000@thecolumbianhome.com
SUMMARY:MICHAEL SHERER
DESCRIPTION:Ballroom
URL:https://thecolumbianhome.com/event/michael-shearer-9/
END:VEVENT
END:VCALENDAR