BEGIN:VCALENDAR
VERSION:2.0
PRODID:-//Columbian Home - ECPv6.15.17.1//NONSGML v1.0//EN
CALSCALE:GREGORIAN
METHOD:PUBLISH
X-ORIGINAL-URL:https://thecolumbianhome.com
X-WR-CALDESC:Events for Columbian Home
REFRESH-INTERVAL;VALUE=DURATION:PT1H
X-Robots-Tag:noindex
X-PUBLISHED-TTL:PT1H
BEGIN:VTIMEZONE
TZID:UTC
BEGIN:STANDARD
TZOFFSETFROM:+0000
TZOFFSETTO:+0000
TZNAME:UTC
DTSTART:20240101T000000
END:STANDARD
END:VTIMEZONE
BEGIN:VEVENT
DTSTART;TZID=UTC:20250404T173000
DTEND;TZID=UTC:20250404T200000
DTSTAMP:20260422T073206
CREATED:20250219T143536Z
LAST-MODIFIED:20250219T143536Z
UID:4356-1743787800-1743796800@thecolumbianhome.com
SUMMARY:Valerie Boorman
DESCRIPTION:
URL:https://thecolumbianhome.com/event/valerie-boorman/
END:VEVENT
END:VCALENDAR