BEGIN:VCALENDAR
VERSION:2.0
PRODID:-//Columbian Home - ECPv6.15.17.1//NONSGML v1.0//EN
CALSCALE:GREGORIAN
METHOD:PUBLISH
X-ORIGINAL-URL:https://thecolumbianhome.com
X-WR-CALDESC:Events for Columbian Home
REFRESH-INTERVAL;VALUE=DURATION:PT1H
X-Robots-Tag:noindex
X-PUBLISHED-TTL:PT1H
BEGIN:VTIMEZONE
TZID:UTC
BEGIN:STANDARD
TZOFFSETFROM:+0000
TZOFFSETTO:+0000
TZNAME:UTC
DTSTART:20250101T000000
END:STANDARD
END:VTIMEZONE
BEGIN:VEVENT
DTSTART;TZID=UTC:20260507T190000
DTEND;TZID=UTC:20260507T220000
DTSTAMP:20260420T201935
CREATED:20260415T133442Z
LAST-MODIFIED:20260415T133442Z
UID:4893-1778180400-1778191200@thecolumbianhome.com
SUMMARY:Rob and Marty (ballroom)
DESCRIPTION:
URL:https://thecolumbianhome.com/event/rob-and-marty-ballroom-3/
END:VEVENT
END:VCALENDAR