BEGIN:VCALENDAR
VERSION:2.0
PRODID:-//Columbian Home - ECPv6.15.17.1//NONSGML v1.0//EN
CALSCALE:GREGORIAN
METHOD:PUBLISH
X-ORIGINAL-URL:https://thecolumbianhome.com
X-WR-CALDESC:Events for Columbian Home
REFRESH-INTERVAL;VALUE=DURATION:PT1H
X-Robots-Tag:noindex
X-PUBLISHED-TTL:PT1H
BEGIN:VTIMEZONE
TZID:UTC
BEGIN:STANDARD
TZOFFSETFROM:+0000
TZOFFSETTO:+0000
TZNAME:UTC
DTSTART:20250101T000000
END:STANDARD
END:VTIMEZONE
BEGIN:VEVENT
DTSTART;TZID=UTC:20260520T190000
DTEND;TZID=UTC:20260520T220000
DTSTAMP:20260420T202036
CREATED:20260415T133803Z
LAST-MODIFIED:20260415T133803Z
UID:4901-1779303600-1779314400@thecolumbianhome.com
SUMMARY:Trivia Night with Hal (ballroom)
DESCRIPTION:
URL:https://thecolumbianhome.com/event/trivia-night-with-hal-ballroom-2/
END:VEVENT
END:VCALENDAR