BEGIN:VCALENDAR
VERSION:2.0
PRODID:-//Columbian Home - ECPv6.15.17.1//NONSGML v1.0//EN
CALSCALE:GREGORIAN
METHOD:PUBLISH
X-ORIGINAL-URL:https://thecolumbianhome.com
X-WR-CALDESC:Events for Columbian Home
REFRESH-INTERVAL;VALUE=DURATION:PT1H
X-Robots-Tag:noindex
X-PUBLISHED-TTL:PT1H
BEGIN:VTIMEZONE
TZID:UTC
BEGIN:STANDARD
TZOFFSETFROM:+0000
TZOFFSETTO:+0000
TZNAME:UTC
DTSTART:20240101T000000
END:STANDARD
END:VTIMEZONE
BEGIN:VEVENT
DTSTART;TZID=UTC:20250501T190000
DTEND;TZID=UTC:20250501T220000
DTSTAMP:20260421T231536
CREATED:20250403T184823Z
LAST-MODIFIED:20250403T184823Z
UID:4403-1746126000-1746136800@thecolumbianhome.com
SUMMARY:Valerie and Fred  (Ballroom)
DESCRIPTION:
URL:https://thecolumbianhome.com/event/valerie-and-fred-ballroom/
END:VEVENT
BEGIN:VEVENT
DTSTART;TZID=UTC:20250502T173000
DTEND;TZID=UTC:20250502T200000
DTSTAMP:20260421T231536
CREATED:20250403T184846Z
LAST-MODIFIED:20250403T184846Z
UID:4405-1746207000-1746216000@thecolumbianhome.com
SUMMARY:Alan Troxell  (Porch)
DESCRIPTION:
URL:https://thecolumbianhome.com/event/alan-troxell-porch/
END:VEVENT
BEGIN:VEVENT
DTSTART;TZID=UTC:20250508T190000
DTEND;TZID=UTC:20250508T220000
DTSTAMP:20260421T231536
CREATED:20250403T184918Z
LAST-MODIFIED:20250403T184918Z
UID:4407-1746730800-1746741600@thecolumbianhome.com
SUMMARY:Johnny K  (Ballroom)
DESCRIPTION:
URL:https://thecolumbianhome.com/event/johnny-k-ballroom/
END:VEVENT
BEGIN:VEVENT
DTSTART;TZID=UTC:20250509T173000
DTEND;TZID=UTC:20250509T200000
DTSTAMP:20260421T231536
CREATED:20250403T184959Z
LAST-MODIFIED:20250403T184959Z
UID:4409-1746811800-1746820800@thecolumbianhome.com
SUMMARY:Chris George (Porch)
DESCRIPTION:
URL:https://thecolumbianhome.com/event/chris-george-porch/
END:VEVENT
BEGIN:VEVENT
DTSTART;TZID=UTC:20250515T190000
DTEND;TZID=UTC:20250515T220000
DTSTAMP:20260421T231536
CREATED:20250403T185605Z
LAST-MODIFIED:20250403T185605Z
UID:4411-1747335600-1747346400@thecolumbianhome.com
SUMMARY:Frank Benincasa  (Ballroom)
DESCRIPTION:
URL:https://thecolumbianhome.com/event/frank-benincasa-ballroom/
END:VEVENT
BEGIN:VEVENT
DTSTART;TZID=UTC:20250516T173000
DTEND;TZID=UTC:20250516T200000
DTSTAMP:20260421T231536
CREATED:20250403T185634Z
LAST-MODIFIED:20250403T185634Z
UID:4413-1747416600-1747425600@thecolumbianhome.com
SUMMARY:Gene Cullison (Porch)
DESCRIPTION:
URL:https://thecolumbianhome.com/event/gene-cullison-porch/
END:VEVENT
BEGIN:VEVENT
DTSTART;TZID=UTC:20250519T173000
DTEND;TZID=UTC:20250519T173000
DTSTAMP:20260421T231536
CREATED:20250516T151234Z
LAST-MODIFIED:20250516T151234Z
UID:4452-1747675800-1747675800@thecolumbianhome.com
SUMMARY:Bingo Night
DESCRIPTION:
URL:https://thecolumbianhome.com/event/bingo-night-9/
END:VEVENT
BEGIN:VEVENT
DTSTART;TZID=UTC:20250521T190000
DTEND;TZID=UTC:20250521T210000
DTSTAMP:20260421T231536
CREATED:20250516T151307Z
LAST-MODIFIED:20250516T151307Z
UID:4454-1747854000-1747861200@thecolumbianhome.com
SUMMARY:Trivia with Hal Fittipaldi
DESCRIPTION:
URL:https://thecolumbianhome.com/event/trivia-with-hal-fittipaldi/
END:VEVENT
BEGIN:VEVENT
DTSTART;TZID=UTC:20250522T190000
DTEND;TZID=UTC:20250522T220000
DTSTAMP:20260421T231536
CREATED:20250403T185708Z
LAST-MODIFIED:20250403T185708Z
UID:4415-1747940400-1747951200@thecolumbianhome.com
SUMMARY:Michael Shearer (Ballroom)
DESCRIPTION:
URL:https://thecolumbianhome.com/event/michael-shearer-ballroom/
END:VEVENT
BEGIN:VEVENT
DTSTART;TZID=UTC:20250523T173000
DTEND;TZID=UTC:20250523T200000
DTSTAMP:20260421T231536
CREATED:20250403T185735Z
LAST-MODIFIED:20250403T185735Z
UID:4417-1748021400-1748030400@thecolumbianhome.com
SUMMARY:Rob Ballanoff (Porch)
DESCRIPTION:
URL:https://thecolumbianhome.com/event/rob-ballanoff-porch/
END:VEVENT
BEGIN:VEVENT
DTSTART;VALUE=DATE:20250525
DTEND;VALUE=DATE:20250527
DTSTAMP:20260421T231536
CREATED:20250516T151338Z
LAST-MODIFIED:20250516T151338Z
UID:4456-1748131200-1748303999@thecolumbianhome.com
SUMMARY:CLOSED for Memorial Day Weekend
DESCRIPTION:
URL:https://thecolumbianhome.com/event/closed-for-memorial-day-weekend/
END:VEVENT
BEGIN:VEVENT
DTSTART;TZID=UTC:20250529T190000
DTEND;TZID=UTC:20250529T220000
DTSTAMP:20260421T231536
CREATED:20250403T185811Z
LAST-MODIFIED:20250403T185811Z
UID:4419-1748545200-1748556000@thecolumbianhome.com
SUMMARY:Kato  (Ballroom)
DESCRIPTION:
URL:https://thecolumbianhome.com/event/kato-ballroom/
END:VEVENT
BEGIN:VEVENT
DTSTART;TZID=UTC:20250530T173000
DTEND;TZID=UTC:20250530T200000
DTSTAMP:20260421T231536
CREATED:20250403T185841Z
LAST-MODIFIED:20250403T185841Z
UID:4421-1748626200-1748635200@thecolumbianhome.com
SUMMARY:Alan Troxell  (Porch)
DESCRIPTION:
URL:https://thecolumbianhome.com/event/alan-troxell-porch-2/
END:VEVENT
BEGIN:VEVENT
DTSTART;TZID=UTC:20250531T190000
DTEND;TZID=UTC:20250531T220000
DTSTAMP:20260421T231536
CREATED:20250403T185918Z
LAST-MODIFIED:20250403T185918Z
UID:4423-1748718000-1748728800@thecolumbianhome.com
SUMMARY:Karaoke with Allen Newton  (Ballroom)
DESCRIPTION:
URL:https://thecolumbianhome.com/event/karaoke-with-allen-newton-ballroom/
END:VEVENT
END:VCALENDAR