BEGIN:VCALENDAR
VERSION:2.0
PRODID:-//Columbian Home - ECPv6.15.17.1//NONSGML v1.0//EN
CALSCALE:GREGORIAN
METHOD:PUBLISH
X-WR-CALNAME:Columbian Home
X-ORIGINAL-URL:https://thecolumbianhome.com
X-WR-CALDESC:Events for Columbian Home
REFRESH-INTERVAL;VALUE=DURATION:PT1H
X-Robots-Tag:noindex
X-PUBLISHED-TTL:PT1H
BEGIN:VTIMEZONE
TZID:UTC
BEGIN:STANDARD
TZOFFSETFROM:+0000
TZOFFSETTO:+0000
TZNAME:UTC
DTSTART:20240101T000000
END:STANDARD
END:VTIMEZONE
BEGIN:VEVENT
DTSTART;TZID=UTC:20250904T190000
DTEND;TZID=UTC:20250904T220000
DTSTAMP:20260421T153555
CREATED:20250814T132441Z
LAST-MODIFIED:20250814T132441Z
UID:4570-1757012400-1757023200@thecolumbianhome.com
SUMMARY:Val and Fred (Ballroom)
DESCRIPTION:
URL:https://thecolumbianhome.com/event/val-and-fred-ballroom/
END:VEVENT
BEGIN:VEVENT
DTSTART;TZID=UTC:20250905T173000
DTEND;TZID=UTC:20250905T200000
DTSTAMP:20260421T153555
CREATED:20250814T133442Z
LAST-MODIFIED:20250814T133442Z
UID:4572-1757093400-1757102400@thecolumbianhome.com
SUMMARY:Cassandra Rose (Deck)
DESCRIPTION:
URL:https://thecolumbianhome.com/event/cassandra-rose-deck/
END:VEVENT
BEGIN:VEVENT
DTSTART;TZID=UTC:20250911T190000
DTEND;TZID=UTC:20250911T220000
DTSTAMP:20260421T153555
CREATED:20250814T133519Z
LAST-MODIFIED:20250903T131903Z
UID:4574-1757617200-1757628000@thecolumbianhome.com
SUMMARY:Johnny K (Ballroom)
DESCRIPTION:
URL:https://thecolumbianhome.com/event/johnny-k-ballroom-4/
END:VEVENT
BEGIN:VEVENT
DTSTART;TZID=UTC:20250912T173000
DTEND;TZID=UTC:20250912T200000
DTSTAMP:20260421T153555
CREATED:20250814T133551Z
LAST-MODIFIED:20250814T133551Z
UID:4576-1757698200-1757707200@thecolumbianhome.com
SUMMARY:Chris George (Deck)
DESCRIPTION:
URL:https://thecolumbianhome.com/event/chris-george-deck-4/
END:VEVENT
BEGIN:VEVENT
DTSTART;TZID=UTC:20250917T190000
DTEND;TZID=UTC:20250917T190000
DTSTAMP:20260421T153555
CREATED:20250818T153213Z
LAST-MODIFIED:20250818T153213Z
UID:4614-1758135600-1758135600@thecolumbianhome.com
SUMMARY:Trivia with Hal Fittipaldi
DESCRIPTION:
URL:https://thecolumbianhome.com/event/trivia-with-hal-fittipaldi-2/
END:VEVENT
BEGIN:VEVENT
DTSTART;TZID=UTC:20250918T190000
DTEND;TZID=UTC:20250918T220000
DTSTAMP:20260421T153555
CREATED:20250814T133627Z
LAST-MODIFIED:20250814T133627Z
UID:4579-1758222000-1758232800@thecolumbianhome.com
SUMMARY:Michael Sherer (Ballroom)
DESCRIPTION:
URL:https://thecolumbianhome.com/event/michael-sherer-ballroom-2/
END:VEVENT
BEGIN:VEVENT
DTSTART;TZID=UTC:20250919T173000
DTEND;TZID=UTC:20250919T200000
DTSTAMP:20260421T153555
CREATED:20250814T134315Z
LAST-MODIFIED:20250814T134315Z
UID:4581-1758303000-1758312000@thecolumbianhome.com
SUMMARY:Gene Cullison (Deck)
DESCRIPTION:
URL:https://thecolumbianhome.com/event/gene-cullison-deck-6/
END:VEVENT
BEGIN:VEVENT
DTSTART;TZID=UTC:20250920T190000
DTEND;TZID=UTC:20250920T220000
DTSTAMP:20260421T153555
CREATED:20250818T152234Z
LAST-MODIFIED:20250818T152234Z
UID:4587-1758394800-1758405600@thecolumbianhome.com
SUMMARY:Karaoke Night with Allen Newton (Ballroom)
DESCRIPTION:
URL:https://thecolumbianhome.com/event/karaoke-night-with-allen-newton-ballroom/
END:VEVENT
BEGIN:VEVENT
DTSTART;TZID=UTC:20250922T173000
DTEND;TZID=UTC:20250922T173000
DTSTAMP:20260421T153555
CREATED:20250818T153130Z
LAST-MODIFIED:20250903T131744Z
UID:4612-1758562200-1758562200@thecolumbianhome.com
SUMMARY:Bingo
DESCRIPTION:
URL:https://thecolumbianhome.com/event/bingo-5/
END:VEVENT
BEGIN:VEVENT
DTSTART;TZID=UTC:20250925T190000
DTEND;TZID=UTC:20250925T220000
DTSTAMP:20260421T153555
CREATED:20250814T134356Z
LAST-MODIFIED:20250814T134356Z
UID:4583-1758826800-1758837600@thecolumbianhome.com
SUMMARY:Kato (Ballroom)
DESCRIPTION:
URL:https://thecolumbianhome.com/event/kato-ballroom-5/
END:VEVENT
BEGIN:VEVENT
DTSTART;TZID=UTC:20250926T173000
DTEND;TZID=UTC:20250926T200000
DTSTAMP:20260421T153555
CREATED:20250814T134427Z
LAST-MODIFIED:20250814T134427Z
UID:4585-1758907800-1758916800@thecolumbianhome.com
SUMMARY:Rob Ballanoff (Deck)
DESCRIPTION:
URL:https://thecolumbianhome.com/event/rob-ballanoff-deck/
END:VEVENT
END:VCALENDAR